BEGIN:VCALENDAR
VERSION:2.0
PRODID:SchoolNow
CALSCALE:GREGORIAN
BEGIN:VEVENT
UID:6a0c04c8-998b-11f0-af4a-0a58a9feac02
DTSTAMP:20260415T205636Z
SUMMARY:CDD Board Meeting - Apr. 2026
LOCATION:Hilton Garden Inn Palm Coast/Town Center\, located at 55 Town Cent
 er Boulevard\, Palm Coast\, Florida 32164
URL;VALUE=URI:https://www.palmcoastparkcdd.org/calendar/8660600/cdd-board-m
 eeting-apr-2026
DTSTART:20260417T143000Z
DTEND:20260417T153000Z
ATTACH;FILENAME=PCP_041726_agenda (1).pdf;FMTTYPE=application/pdf:https://c
 ampussuite-storage.s3.amazonaws.com/prod/1558953/003bde98-f058-11e9-b675-1
 2606da399aa/3089886/77a88e2c-390d-11f1-96c9-0a58a9feac02/file/PCP_041726_a
 genda (1).pdf
END:VEVENT
END:VCALENDAR
