BEGIN:VCALENDAR
VERSION:2.0
PRODID:SchoolNow
CALSCALE:GREGORIAN
BEGIN:VEVENT
UID:744c4ca4-998b-11f0-b6ce-0a58a9feac02
DTSTAMP:20250924T211427Z
SUMMARY:CDD Board Meeting - May 2026
LOCATION:Hilton Garden Inn Palm Coast/Town Center\, located at 55 Town Cent
 er Boulevard\, Palm Coast\, Florida 32164
URL;VALUE=URI:https://www.palmcoastparkcdd.org/calendar/8660601/cdd-board-m
 eeting-may-2026
DTSTART:20260515T143000Z
DTEND:20260515T153000Z
END:VEVENT
END:VCALENDAR
