BEGIN:VCALENDAR
VERSION:2.0
PRODID:SchoolNow
CALSCALE:GREGORIAN
BEGIN:VEVENT
UID:88ce6ec8-998b-11f0-9fdf-0a58a9feac02
DTSTAMP:20250924T211502Z
SUMMARY:CDD Board Meeting - Jul. 2026
LOCATION:Hilton Garden Inn Palm Coast/Town Center\, located at 55 Town Cent
 er Boulevard\, Palm Coast\, Florida 32164
URL;VALUE=URI:https://www.palmcoastparkcdd.org/calendar/8660603/cdd-board-m
 eeting-jul-2026
DTSTART:20260717T143000Z
DTEND:20260717T153000Z
END:VEVENT
END:VCALENDAR
