BEGIN:VCALENDAR
VERSION:2.0
PRODID:SchoolNow
CALSCALE:GREGORIAN
BEGIN:VEVENT
UID:91208e30-998b-11f0-a64b-023d67bb3955
DTSTAMP:20250924T211516Z
SUMMARY:CDD Board Meeting - Aug. 2026
LOCATION:Hilton Garden Inn Palm Coast/Town Center\, located at 55 Town Cent
 er Boulevard\, Palm Coast\, Florida 32164
URL;VALUE=URI:https://www.palmcoastparkcdd.org/calendar/8660604/cdd-board-m
 eeting-aug-2026
DTSTART:20260821T143000Z
DTEND:20260821T153000Z
END:VEVENT
END:VCALENDAR
