BEGIN:VCALENDAR
VERSION:2.0
PRODID:SchoolNow
CALSCALE:GREGORIAN
BEGIN:VEVENT
UID:994b7048-998b-11f0-a3e3-0a58a9feac02
DTSTAMP:20250924T211538Z
SUMMARY:CDD Board Meeting - Sept. 2026
LOCATION:Hilton Garden Inn Palm Coast/Town Center\, located at 55 Town Cent
 er Boulevard\, Palm Coast\, Florida 32164
URL;VALUE=URI:https://www.palmcoastparkcdd.org/calendar/8660605/cdd-board-m
 eeting-sept-2026
DTSTART:20260918T143000Z
DTEND:20260918T153000Z
END:VEVENT
END:VCALENDAR
